BEGIN:VCALENDAR
VERSION:2.0
PRODID:-//Tukios.com/
BEGIN:VEVENT
UID:1cb93af8-b010-45b4-83f5-ab01d67318c1@www.americanfh.net
DTSTAMP:20260421T190756Z
DTSTART:20260425T140000Z
DTEND:20260425T150000Z
SUMMARY:Celebration of Life
DESCRIPTION:
URL:https://www.americanfh.net/obituaries/lillian-garges
LOCATION:Christ Community Church 5511 Easton Road  Doylestown PA 18902
GEO:40.373573;-75.1443533
END:VEVENT
END:VCALENDAR