BEGIN:VCALENDAR
VERSION:2.0
PRODID:-//Tukios.com/
BEGIN:VEVENT
UID:a6f7ee6f-f9e4-45e3-b37d-6c6687fd4cd8@www.americanfh.net
DTSTAMP:20260423T165105Z
DTSTART:20260508T150000Z
DTEND:20260508T160000Z
SUMMARY:Celebration of Life
DESCRIPTION:
URL:https://www.americanfh.net/obituaries/barbara-wurgley
LOCATION:Calvary Chapel of Philadelphia 13500 Philmont Avenue  
	Philadelphia PA 19116
GEO:40.1296151;-75.0174847
END:VEVENT
END:VCALENDAR